BEGIN:VCALENDAR
VERSION:2.0
PRODID:-//ThinkThru-TalkThru - ECPv4.9.4//NONSGML v1.0//EN
CALSCALE:GREGORIAN
METHOD:PUBLISH
X-WR-CALNAME:ThinkThru-TalkThru
X-ORIGINAL-URL:https://tt-tt.co.za
X-WR-CALDESC:Events for ThinkThru-TalkThru
BEGIN:VTIMEZONE
TZID:"Europe/Helsinki"
BEGIN:DAYLIGHT
TZOFFSETFROM:+0200
TZOFFSETTO:+0300
TZNAME:EEST
DTSTART:20220327T010000
END:DAYLIGHT
BEGIN:STANDARD
TZOFFSETFROM:+0300
TZOFFSETTO:+0200
TZNAME:EET
DTSTART:20221030T010000
END:STANDARD
END:VTIMEZONE
BEGIN:VEVENT
DTSTART;TZID="Europe/Helsinki":20221012T193000
DTEND;TZID="Europe/Helsinki":20221012T204500
DTSTAMP:20260421T231949
CREATED:20220922T102425Z
LAST-MODIFIED:20220922T132046Z
UID:1349-1665603000-1665607500@tt-tt.co.za
SUMMARY:An Anxiety Toolbox?!
DESCRIPTION:Let’s develop our anxiety toolbox together: \nLeft right human brain concept. Creative part and logic part with social and business doodle isolated on white background. You can be more creative when you are less anxious.\nOur sessions will always be practical and interactive. You will have opportunities to practice the tools during the session so that it is easier to use them when anxiety strikes. \nThis is one of the sessions in our new offering “Your personal stress management smorgasbord” More details here. We would like to put the power back into your hands and give you agency to tailor-make a stress and anxiety management package that really works for you. You do not need to feel overwhelmed by anxiety – there are changes you can make in your area of influence. Every Wednesday in October from 19:30 – 20:45 we will be facilitating a different topic online. You decide what you  need and when and whether you would like another session. You give yourself time to apply your learnings\, implement change and control the amount of new information you are exposed to. Every month our offering will change slightly\, so do check in to see what’s been added. \nEmail contact@tt-tt.co.za to book your place by 10:00 on 12 October. \n
URL:https://tt-tt.co.za/event/an-anxiety-toolbox-2/
CATEGORIES:Course,Stress management
END:VEVENT
END:VCALENDAR