BEGIN:VCALENDAR
VERSION:2.0
PRODID:-//ThinkThru-TalkThru - ECPv4.9.4//NONSGML v1.0//EN
CALSCALE:GREGORIAN
METHOD:PUBLISH
X-WR-CALNAME:ThinkThru-TalkThru
X-ORIGINAL-URL:https://tt-tt.co.za
X-WR-CALDESC:Events for ThinkThru-TalkThru
BEGIN:VTIMEZONE
TZID:"Europe/Helsinki"
BEGIN:DAYLIGHT
TZOFFSETFROM:+0200
TZOFFSETTO:+0300
TZNAME:EEST
DTSTART:20220327T010000
END:DAYLIGHT
BEGIN:STANDARD
TZOFFSETFROM:+0300
TZOFFSETTO:+0200
TZNAME:EET
DTSTART:20221030T010000
END:STANDARD
END:VTIMEZONE
BEGIN:VEVENT
DTSTART;TZID="Europe/Helsinki":20220905T193000
DTEND;TZID="Europe/Helsinki":20220905T204500
DTSTAMP:20260422T015556
CREATED:20220810T192233Z
LAST-MODIFIED:20220818T094355Z
UID:1305-1662406200-1662410700@tt-tt.co.za
SUMMARY:The ticking Time Bomb!
DESCRIPTION:Am I controlling time or is time controlling me?! Time is about to run out…\nWe will reflect on our perceptions of how we use our time\, analyse our beliefs about time and look at some practical ideas for time management. \nThis is one of the sessions in our new offering “Your personal stress management smorgasbord”. We would like to put the power back into your hands and give you agency to tailor-make a stress management package that really works for you. Every Monday from 19:30 – 20:45 we will be facilitating a different topic online. You decide what you  need and when and whether you would like another session. You give yourself time to apply your learnings\, implement change and control the amount of new information you are exposed to. Every month our offering will change slightly\, so do check in to see what’s been added. \nEmail contact@tt-tt.co.za to book your place by 10:00 on 5 September. \n
URL:https://tt-tt.co.za/event/the-ticking-time-bomb/
CATEGORIES:Course,Stress management
END:VEVENT
END:VCALENDAR