BEGIN:VCALENDAR
VERSION:2.0
PRODID:-//ThinkThru-TalkThru - ECPv4.9.4//NONSGML v1.0//EN
CALSCALE:GREGORIAN
METHOD:PUBLISH
X-WR-CALNAME:ThinkThru-TalkThru
X-ORIGINAL-URL:https://tt-tt.co.za
X-WR-CALDESC:Events for ThinkThru-TalkThru
BEGIN:VTIMEZONE
TZID:"Europe/Helsinki"
BEGIN:DAYLIGHT
TZOFFSETFROM:+0200
TZOFFSETTO:+0300
TZNAME:EEST
DTSTART:20210328T010000
END:DAYLIGHT
BEGIN:STANDARD
TZOFFSETFROM:+0300
TZOFFSETTO:+0200
TZNAME:EET
DTSTART:20211031T010000
END:STANDARD
END:VTIMEZONE
BEGIN:VEVENT
DTSTART;TZID="Europe/Helsinki":20211009T090000
DTEND;TZID="Europe/Helsinki":20211009T163000
DTSTAMP:20260424T165627
CREATED:20210330T133119Z
LAST-MODIFIED:20210919T043121Z
UID:1256-1633770000-1633797000@tt-tt.co.za
SUMMARY:Stress management for busy people
DESCRIPTION:\n\n\n\n\nTake a break from your busy schedule and treat yourself to an outdoors’ day of rejuvenation\, relaxation and practical stress management skill building in this picturesque setting close to Magaliesburg. Spoil yourself with a luxurious break in the beauty of nature. \nThis package also includes one individual coaching session of 1 hour (to be booked at a time convenient to you – online or in person) to follow through with you personally so that there is real and practical progress in your ability to manage your stress\, as well as 21 days of daily support material on Whatsapp. Real change takes daily commitment and regular small changes accumulate to a changed life. \nWhen we experience stressful circumstances\, we often struggle with strong emotions like anger\, pain\, anxiety and fear. It feels like they are taking over our lives\, and we try to avoid dealing with them for as long as possible. However\, suppressing them often results in an uncontrolled pressure-cooker effect: the pot boils over or even explodes\, often when it is most inconvenient. Our nervous system continues to be on high alert and we are highly strung. \nThere is an alternative. Regulating our nervous system so that we are more creative in our approach to life’s challenges and integrating those strong emotions into our lives opens up new possibilities. We can learn important lessons from our emotions\, and harness the motivation and energy they give us\, to implement real change in our circumstances or grow in our ability to deal with them. This journey can feel slightly uncomfortable at times\, but the reward of reaching the destination – a more unified\, integrated\, cohesive personality and way of living – is well worth it. \nAll that is needed for some stress-free me-time will be provided on this day away: your needs will be catered for with refreshing drinks\, treats and a sumptuous (but healthy!) individually-packed picnic lunch. A vegetarian option is available – please indicate if needed. A workbook and a goody bag is included. \nOur course content for the day covers: \n \n\nexploring your stressors and the effect they have on you\nwhat our emotions can teach us\nhow our beliefs can keep us from positive change\nour perceptions of how we use our time\, recognising our beliefs about time and a look at some practical ideas for time management\nan evaluation of our habits\, both good and bad\, and how we can build on the good and develop healthy habits for self-care of body\, mind and soul\nthe inclusion of daily rhythms into our routines as a way of changing us and coping with stress. These will include contemplation\, silence\, solitude\, rest\, restoration\, renewing of your mind\, journaling\, contentment and simplicity.\nmost of our time\, however\, will be spent in applying these different practices and experiencing exercises so that you can make them authentically your own. These will then be more accessible to you in stressful situations.\n\nPackage Cost: R950 (early bird fee if you pay before end September) R1150 after 1 October \nDate for the in-person course: Saturday 9 October 2021 \nTime: 9.00 – 16.30 \n \nBook your place with vera@tt-tt.co.za. \nMore details after registration. \nWe will adhere to Covid-19 protocols. The venue is covered\, but open to the outside. Weather permitting\, there should be opportunities for walks and the joy of sitting in the splendour of creation. \nWe are committed to keeping our environmental footprint as small as possible – no one-use plastic to be found at our course. \n\n\n\n
URL:https://tt-tt.co.za/event/stress-management-for-busy-people-2021-10-09/
CATEGORIES:Course
END:VEVENT
END:VCALENDAR