BEGIN:VCALENDAR
VERSION:2.0
PRODID:-//ThinkThru-TalkThru - ECPv4.9.4//NONSGML v1.0//EN
CALSCALE:GREGORIAN
METHOD:PUBLISH
X-WR-CALNAME:ThinkThru-TalkThru
X-ORIGINAL-URL:https://tt-tt.co.za
X-WR-CALDESC:Events for ThinkThru-TalkThru
BEGIN:VTIMEZONE
TZID:"Europe/Helsinki"
BEGIN:DAYLIGHT
TZOFFSETFROM:+0200
TZOFFSETTO:+0300
TZNAME:EEST
DTSTART:20210328T010000
END:DAYLIGHT
BEGIN:STANDARD
TZOFFSETFROM:+0300
TZOFFSETTO:+0200
TZNAME:EET
DTSTART:20211031T010000
END:STANDARD
END:VTIMEZONE
BEGIN:VEVENT
DTSTART;TZID="Europe/Helsinki":20210406T193000
DTEND;TZID="Europe/Helsinki":20210406T210000
DTSTAMP:20260420T103317
CREATED:20210304T162303Z
LAST-MODIFIED:20210304T164444Z
UID:1110-1617737400-1617742800@tt-tt.co.za
SUMMARY:Stop the bus - who and where am I?
DESCRIPTION:We tend to follow the expected trajectory of our lives\, without too much thought. We go to school\, train for a job\, develop our careers\, work most days\, date\, find a life partner (or not)\, decide to have kids (or not)…and then one day\, we look back on our lives and perhaps realise we are not where we thought we would be. Perhaps we are not even who we thought we would be. \nThis interactive talk will give us the opportunity to pause and reflect about who we have become\, where we are and whether we are on the right bus… \nJoin Khanyi and Vera as they share some of their experiences with changing direction (or getting on a different bus). \nBook your place with vera@tt-tt.co.za to get the zoom call details. \n
URL:https://tt-tt.co.za/event/stop-the-bus-who-and-where-am-i/
CATEGORIES:General Event
END:VEVENT
END:VCALENDAR