BEGIN:VCALENDAR
VERSION:2.0
PRODID:-//ThinkThru-TalkThru - ECPv4.9.4//NONSGML v1.0//EN
CALSCALE:GREGORIAN
METHOD:PUBLISH
X-WR-CALNAME:ThinkThru-TalkThru
X-ORIGINAL-URL:https://tt-tt.co.za
X-WR-CALDESC:Events for ThinkThru-TalkThru
BEGIN:VTIMEZONE
TZID:"Europe/Helsinki"
BEGIN:DAYLIGHT
TZOFFSETFROM:+0200
TZOFFSETTO:+0300
TZNAME:EEST
DTSTART:20180325T010000
END:DAYLIGHT
BEGIN:STANDARD
TZOFFSETFROM:+0300
TZOFFSETTO:+0200
TZNAME:EET
DTSTART:20181028T010000
END:STANDARD
END:VTIMEZONE
BEGIN:VEVENT
DTSTART;TZID="Europe/Helsinki":20180926T190000
DTEND;TZID="Europe/Helsinki":20180926T210000
DTSTAMP:20260419T165514
CREATED:20180727T155753Z
LAST-MODIFIED:20180727T160030Z
UID:404-1537988400-1537995600@tt-tt.co.za
SUMMARY:Private Dialogue inspired by Poetry
DESCRIPTION:Life in South Africa confronts us with issues that are not always easy to process. They make us uncomfortable and challenge us. However\, is it exactly in these places of dissonance that growth and healing can happen. \nVera Marbach will facilitate a “dialogue inspired by poetry” through a process of reflection and sense-making as we connect with each other across some of the issues that frequently divide us. She will present some poetry from her recently published “Dwelling in Dissonance” as an entry point to a heart-to-heart discussion. \n
URL:https://tt-tt.co.za/event/private-dialogue-inspired-by-poetry-6/
CATEGORIES:Dialogue Inspired by Poetry (DIP)
END:VEVENT
END:VCALENDAR